BEGIN:VCALENDAR
VERSION:2.0
PRODID:-//My Community Diary//iCal Event//EN
CALSCALE:GREGORIAN
METHOD:PUBLISH
BEGIN:VEVENT
UID:41d86ed7-4fbf-4367-98d3-871b465a348c
DTSTAMP:20260422T035751Z
DTSTART;VALUE=DATE:20260726
DTEND;VALUE=DATE:20260727
SUMMARY:Willunga Almond Blossom Festival
DESCRIPTION:There is something for the entire family to enjoy at the Willunga Almond Blossom Festival. Share in the fun of the show rides\, side shows\, animal nursery\, giant games\, circus entertainers\, camel and pony rides plus when you get hungry and want to slow down\, there is a variety of food trucks\, live music\, market stalls to browse. \n\nGather the family for the Saturday night fireworks show or enter in the Almond Cookery Competition with winners on display or have a go in the Almond Cracking Competition on Sunday. \n\nBring along the entire family\, there is something for everyone.\n\nEntry Cost\nAdult $12  - Over 18 years\nConcession $7  - Students 18 & under are concession\nChildren under 5 free entry\nFamily $30  - Two Adults with up to four children\nStudent $7  - 16 to 18 years
LOCATION:\, 5 Main Road\, Willunga\, SA 5172\, SA\, 5172
RRULE:FREQ=DAILY;INTERVAL=1;UNTIL=20260728T000000Z
END:VEVENT
END:VCALENDAR
