BEGIN:VCALENDAR
VERSION:2.0
PRODID:-//My Community Diary//iCal Event//EN
CALSCALE:GREGORIAN
METHOD:PUBLISH
BEGIN:VEVENT
UID:5a6cc411-1b26-4c35-899d-aecc3426a37d
DTSTAMP:20260422T013705Z
DTSTART;VALUE=DATE:20260423
DTEND;VALUE=DATE:20260424
SUMMARY:Pasta Tuesday at iTL
DESCRIPTION:Tuesdays just got saucier with AUD25 pasta.\n\nSwirl\, twirl and dive into Tuesdays with a hot and steamy bowl of handmade pasta for AUD25 when you purchase any drink.\n\nRound up your friends\, family and faves and get a booking!\n\nAvailable for lunch and dinner\, dine-in only. T&Cs apply.
LOCATION:\, SkyCity Adelaide\, Adelaide\, SA 5000\, SA\, 5000
RRULE:FREQ=DAILY;INTERVAL=1;UNTIL=20260425T000000Z
END:VEVENT
END:VCALENDAR
