BEGIN:VCALENDAR
VERSION:2.0
PRODID:-//My Community Diary//iCal Event//EN
CALSCALE:GREGORIAN
METHOD:PUBLISH
BEGIN:VEVENT
UID:37a51c81-b645-4956-8c78-974f72fcbbcb
DTSTAMP:20260421T211526Z
DTSTART;VALUE=DATE:20260802
DTEND;VALUE=DATE:20260803
SUMMARY:Sunday Sessions at the Australian Hotel Ballina
DESCRIPTION:Ease into your Sunday afternoon the right way with live music at the Australian Hotel Ballina.\n\nKick back with your crew\, tuck into some delicious pub bites\, sip on an ice-cold drink\, and let the laid-back tunes be the soundtrack to your perfect weekend wind-down.\n\nWhether you're wrapping up a beach day or just chasing chill Sunday vibes\, Sunday Sessions at the Australian hits all the right notes.
LOCATION:\, 103 River St\, Ballina\, NSW 2478\, NSW\, 2478
RRULE:FREQ=DAILY;INTERVAL=1;UNTIL=20260804T000000Z
END:VEVENT
END:VCALENDAR
