BEGIN:VCALENDAR
VERSION:2.0
PRODID:-//My Community Diary//iCal Event//EN
CALSCALE:GREGORIAN
METHOD:PUBLISH
BEGIN:VEVENT
UID:25965a62-05fd-4e33-80f4-45c699584ab3
DTSTAMP:20260422T035800Z
DTSTART;VALUE=DATE:20261226
DTEND;VALUE=DATE:20261227
SUMMARY:Saturday Sessions at the Lennox Hotel
DESCRIPTION:Saturday nights are anything but boring at the Lennox Hotel!\n\nGrab your crew and dive into a night of ice-cold drinks\, epic dance floor energy\, and the kind of atmosphere that only Lennox does best. Settle in for an evening of entertainment as a variety of talented local artists take to the stage\, bringing you everything from smooth acoustic sets to crowd-pleasing favourites. With top tunes\, good times and the best kind of company\, this is your weekly dose of weekend magic.\n\nWhether you're dancing until late or just in it for the good vibes\, Saturday Sessions at the Lennox never disappoint.
LOCATION:\, Lennox Head\, NSW 2478\, NSW\, 2478
RRULE:FREQ=DAILY;INTERVAL=1;UNTIL=20261228T000000Z
END:VEVENT
END:VCALENDAR
