BEGIN:VCALENDAR
VERSION:2.0
PRODID:-//My Community Diary//iCal Event//EN
CALSCALE:GREGORIAN
METHOD:PUBLISH
BEGIN:VEVENT
UID:1d3ecab7-0206-43fb-bb87-874c7ac38146
DTSTAMP:20260422T005020Z
DTSTART;VALUE=DATE:20260725
DTEND;VALUE=DATE:20260726
SUMMARY:Live Music Saturdays at the Ballina RSL
DESCRIPTION:Make your Saturday nights sing at the Ballina RSL with live music – and best of all\, entry is free!\n\nSettle in for an evening of entertainment as a variety of talented local artists take to the stage\, bringing you everything from smooth acoustic sets to crowd-pleasing favourites.\n\nSip on an ice-cold drink from the bar or treat yourself to dinner at the club's restaurant offering stunning river views and a relaxed atmosphere.\n\nWhether you're winding down or ready to groove\, Ballina RSL is the place to be for good music\, good food\, and great company every Saturday night.
LOCATION:\, 1 Grant Street\, Ballina\, NSW 2478\, NSW\, 2478
RRULE:FREQ=DAILY;INTERVAL=1;UNTIL=20260727T000000Z
END:VEVENT
END:VCALENDAR
