BEGIN:VCALENDAR
VERSION:2.0
PRODID:-//My Community Diary//iCal Event//EN
CALSCALE:GREGORIAN
METHOD:PUBLISH
BEGIN:VEVENT
UID:f20732a3-ac1e-4e45-bb2b-b1ea8460c275
DTSTAMP:20260421T225611Z
DTSTART;VALUE=DATE:20260828
DTEND;VALUE=DATE:20260829
SUMMARY:Live Music at Club Lennox
DESCRIPTION:Head to Club Lennox every Friday and Saturday night for live music\, chilled vibes and good times by the coast.\n\nWhether you're a local winding down after the week or a visitor soaking up Lennox Head's laid-back atmosphere\, you'll love the lineup of local talent bringing the soundtrack to your night out.\n\nEnjoy a relaxed meal and drinks with friends while you take in the tunes. The club's bistro serves up all your Aussie pub favourites – think juicy burgers\, crispy schnitzels\, fresh seafood and more – perfect for fuelling your evening.\n\nClub Lennox is a welcoming spot for all ages. With family-friendly spaces and a community vibe\, it's the kind of place where the kids can feel at home while the grown-ups kick back and enjoy the music.
LOCATION:\, 10 Stewart Street\, Lennox Head\, NSW 2478\, NSW\, 2478
RRULE:FREQ=DAILY;INTERVAL=1;UNTIL=20260830T000000Z
END:VEVENT
END:VCALENDAR
