BEGIN:VCALENDAR
VERSION:2.0
PRODID:-//My Community Diary//iCal Event//EN
CALSCALE:GREGORIAN
METHOD:PUBLISH
BEGIN:VEVENT
UID:f56c026a-ab4d-4817-aafb-01c81cbd6ed5
DTSTAMP:20260422T032935Z
DTSTART;VALUE=DATE:20260725
DTEND;VALUE=DATE:20260726
SUMMARY:Lake Mac POP BAM - Pop Culture Festival
DESCRIPTION:Wham\, bam\, POP BAM! Lake Macquarie's annual popular culture festival returns this July. \n\nJoin us for the ultimate pop culture extravaganza at one of Lake Macquarie's most anticipated events of the year. \n\nDive into a world where your favourite movies\, TV shows\, comics\, and music come alive in a vibrant celebration of creativity and fandom.\n\nFrom cosplay and celebrity guests to lightsaber battles\, movie vehicles and creative workshops\, POP BAM delivers pop culture fun for fans of all ages.
LOCATION:\, 43 Stockland Drive\, Glendale\, NSW 2285\, NSW\, 2285
END:VEVENT
END:VCALENDAR
