BEGIN:VCALENDAR
VERSION:2.0
PRODID:-//My Community Diary//iCal Event//EN
CALSCALE:GREGORIAN
METHOD:PUBLISH
BEGIN:VEVENT
UID:42927d3c-052b-4069-a148-2daeea84e430
DTSTAMP:20260422T005101Z
DTSTART;VALUE=DATE:20261127
DTEND;VALUE=DATE:20261128
SUMMARY:Friday Loot & Live Music at the Lennox Hotel
DESCRIPTION:Head to the Lennox Hotel on Fridays for their weekly prize raffle\, proudly supporting the Lennox Head Golden Oldies Rugby Union. Try your luck\, enjoy the friendly atmosphere\, and give back to a great local cause.\n\nThen stick around as the vibe shifts and the volume turns up. Each week features talented local artists bringing the beats to start your weekend with a bang.\n\nWhether you're here for the prizes\, the tunes\, or just the Lennox vibes – Friday nights at the Lennox Hotel deliver every time.
LOCATION:\, Lennox Head\, NSW 2478\, NSW\, 2478
RRULE:FREQ=DAILY;INTERVAL=1;UNTIL=20261129T000000Z
END:VEVENT
END:VCALENDAR
