BEGIN:VCALENDAR
VERSION:2.0
PRODID:-//My Community Diary//iCal Event//EN
CALSCALE:GREGORIAN
METHOD:PUBLISH
BEGIN:VEVENT
UID:83363ce0-3e76-470e-8660-43f66b8aef2f
DTSTAMP:20260421T211405Z
DTSTART;VALUE=DATE:20260605
DTEND;VALUE=DATE:20260606
SUMMARY:Friday Loot & Live Music at the Lennox Hotel
DESCRIPTION:Head to the Lennox Hotel on Fridays for their weekly prize raffle\, proudly supporting the Lennox Head Golden Oldies Rugby Union. Try your luck\, enjoy the friendly atmosphere\, and give back to a great local cause.\n\nThen stick around as the vibe shifts and the volume turns up. Each week features talented local artists bringing the beats to start your weekend with a bang.\n\nWhether you're here for the prizes\, the tunes\, or just the Lennox vibes – Friday nights at the Lennox Hotel deliver every time.
LOCATION:\, Lennox Head\, NSW 2478\, NSW\, 2478
RRULE:FREQ=DAILY;INTERVAL=1;UNTIL=20260607T000000Z
END:VEVENT
END:VCALENDAR
