BEGIN:VCALENDAR
VERSION:2.0
PRODID:-//My Community Diary//iCal Event//EN
CALSCALE:GREGORIAN
METHOD:PUBLISH
BEGIN:VEVENT
UID:4cd1dd6d-188b-45c4-90d8-84b4c5343171
DTSTAMP:20260422T045747Z
DTSTART;VALUE=DATE:20260613
DTEND;VALUE=DATE:20260614
SUMMARY:Edensor Park Gem and Crystal Expo
DESCRIPTION:Immerse yourself in two wonderful days of jewellery\,  gems\, fossils and minerals.\n\nEvery visitor to the expo has the opportunity to win a fantastic door prize and every child can explore the Expo with a quiz and take home a gift for their participation!\n\nAustralian Gem And Mineral Expos prides itself on bringing the art of Lapidary to the public as well as a number of reputable traders from around Australia.\n\nLearn\, see\, buy. You will be amazed at what nature has to offer you!\n\nEntry Cost\nAll tickets $10  - Children under 16 with paying adult enters FREE
LOCATION:\, 223 Edensor Road\, Edensor Park\, NSW 2176\, NSW\, 2176
RRULE:FREQ=DAILY;INTERVAL=1;UNTIL=20260615T000000Z
END:VEVENT
END:VCALENDAR
