BEGIN:VCALENDAR
VERSION:2.0
PRODID:-//My Community Diary//iCal Event//EN
CALSCALE:GREGORIAN
METHOD:PUBLISH
BEGIN:VEVENT
UID:531e1c02-c00d-4d53-8e8e-d4690578af9c
DTSTAMP:20260421T224104Z
DTSTART;VALUE=DATE:20260606
DTEND;VALUE=DATE:20260607
SUMMARY:DJ Saturdays at The Australian Hotel Ballina
DESCRIPTION:Head to the Australian Hotel Ballina for DJ Saturdays\, the ultimate destination for lovers of disco\, funk\, soul and house.\n\nEach week\, local DJs take over the decks\, spinning the smoothest grooves and freshest beats to keep the dancefloor moving and the good vibes flowing. \n\nExpect big energy\, great tunes and an even better crowd – the perfect Saturday night mix. Grab your mates\, lace up your dancing shoes\, and get ready to groove 'til late.
LOCATION:\, 103 River St\, Ballina\, NSW 2478\, NSW\, 2478
RRULE:FREQ=DAILY;INTERVAL=1;UNTIL=20260608T000000Z
END:VEVENT
END:VCALENDAR
