BEGIN:VCALENDAR
VERSION:2.0
PRODID:-//My Community Diary//iCal Event//EN
CALSCALE:GREGORIAN
METHOD:PUBLISH
BEGIN:VEVENT
UID:96f61011-387f-4414-b08c-eeb994653012
DTSTAMP:20260421T205335Z
DTSTART;TZID=E. Australia Standard Time:20250811T173000
DTEND;TZID=E. Australia Standard Time:20250811T193000
SUMMARY:Family Support Meeting
DESCRIPTION:FEELING HELPLESS AND ISOLATED AND AT A LOSS AT WHAT TO DO?\nDrug and alcohol use places immense emotional and practical strain on family members. With support\, they can improve their own wellbeing\, those of other family members\, and improve outcomes for everyone\nThere are no rights and wrongs – You don’t have to do it alone Family Drug Support offers a non-religious\, open meeting for family members affected by someone's drug&nbsp\;and alcohol use.&nbsp\;&nbsp\;&nbsp\;Open to anyone and providing opportunities to talk and listen to others in a non-judgemental\, safe environment\n
LOCATION:Family Drug Support-  Central Queensland Rockhampton\, 110-114 Campbell Street\, Rockhampton QLD 4700\, QLD\, 4700
RRULE:FREQ=MONTHLY;INTERVAL=1;BYDAY=3MO
END:VEVENT
END:VCALENDAR
