BEGIN:VCALENDAR
VERSION:2.0
PRODID:-//My Community Diary//iCal Event//EN
CALSCALE:GREGORIAN
METHOD:PUBLISH
BEGIN:VEVENT
UID:0469b35e-0187-4191-99e4-f52952e4c46b
DTSTAMP:20260421T205354Z
DTSTART;VALUE=DATE:20260523
DTEND;VALUE=DATE:20260524
SUMMARY:Eucalypts of Hodogaya
DESCRIPTION:Marking the 80th anniversary of the end of the Second World War\, Eucalypts of Hodogaya reflects on a remarkable story of post-war reconciliation and remembrance. \n\nNestled among cherry blossoms and hinoki pines on the outskirts of Yokohama lies a breathtaking war cemetery—the final resting place for over 1\,500 Commonwealth service personnel. Designed and built by Melbourne's Anzac Agency—now the Office of Australian War Graves—the Yokohama cemetery is considered one of the most exceptional examples of funereal landscape architecture ever created. \n\nThis exhibition explores how Australian and Japanese architects\, gardeners\, and builders overcame cultural divides after the Second World War to collaborate on a site that blends Eastern and Western traditions in a garden of peace.
LOCATION:\, Melbourne\, VIC\, VIC
RRULE:FREQ=DAILY;INTERVAL=1;UNTIL=20260525T000000Z
END:VEVENT
END:VCALENDAR
