BEGIN:VCALENDAR
VERSION:2.0
PRODID:-//My Community Diary//iCal Event//EN
CALSCALE:GREGORIAN
METHOD:PUBLISH
BEGIN:VEVENT
UID:5c11049c-8ed4-4f5d-946f-025fcf9db5ba
DTSTAMP:20260422T002817Z
DTSTART;VALUE=DATE:20260516
DTEND;VALUE=DATE:20260517
SUMMARY:Saturday Sounds and Sips at Balancing Heart Vineyard
DESCRIPTION:Discover the magic that awaits you every Saturday at Balancing Heart Vineyard in Queensland's stunning Granite Belt. As the sun filters through rolling vines and live music dances on the breeze\, you'll find yourself transported to a world where time slows down and every moment feels special.\n\nFrom lunch until dinner\, the vineyard transforms into an immersive concert where emerging artists share the stage with seasoned local favourites and touring musicians. Each Saturday brings fresh sounds and new discoveries – perhaps you'll stumble upon your next favorite artist while sipping award-winning wine among the vines.\n\nStep into the welcoming Cellar Door where exceptional wines meet delicious\, locally-inspired cuisine. Whether you're a wine connoisseur or simply love good food\, our passionate team will guide you through tastings that showcase the unique terroir of the Granite Belt region.\n\nPicture this: you're lounging with friends as talented musicians create the perfect soundtrack to your afternoon\, while panoramic vineyard views stretch endlessly before you. Feel the stress of the week melt away as good vibes\, great wine\, and toe-tapping rhythms blend into an unforgettable experience.\n\nVisit Balancing Heart Vineyard and discover why locals and visitors alike return week after week. \nBook your table\, gather your friends\, and prepare for a weekend experience that harmonises perfectly with the natural beauty of Queensland's premier wine region.
LOCATION:\, 221 Old Wallangarra Road\, Wyberba\, QLD 4382\, QLD\, 4382
RRULE:FREQ=DAILY;INTERVAL=1;UNTIL=20260518T000000Z
END:VEVENT
END:VCALENDAR
