BEGIN:VCALENDAR
VERSION:2.0
PRODID:-//My Community Diary//iCal Event//EN
CALSCALE:GREGORIAN
METHOD:PUBLISH
BEGIN:VEVENT
UID:b3e51a71-9203-4783-82bf-4d15eaad0f65
DTSTAMP:20260424T164531Z
DTSTART:20240405T000000Z
DTEND:20240405T235959Z
SUMMARY:Orange F.O.O.D Week
DESCRIPTION:Orange F.O.O.D Week is Australia’s longest-running regional food festival and has been acclaimed as one of Australia’s top ten food festivals.\n\nThe 10-day community festival is being held from Friday 5 April to Sunday 14 April 2024 and celebrates the Orange region’s diverse and high-quality food and wine. It showcases the farmers who grow it\, as well as the local chefs\, cooks\, restaurateurs\, and caterers that create extraordinary dishes with it.\n\nDuring F.O.O.D Week you can visit farms\, markets\, kitchens\, restaurants\, cafes\, wineries\, attend special celebration dinners\, workshops and events and sample fine wines\, orchard fruits\, beef\, lamb\, venison\, vegetables and more.
LOCATION:\, Orange\, Orange\, NSW 2800\, NSW\, 2800
RRULE:FREQ=DAILY;INTERVAL=1;UNTIL=20240415T000000Z
END:VEVENT
END:VCALENDAR
