BEGIN:VCALENDAR
VERSION:2.0
PRODID:-//My Community Diary//iCal Event//EN
CALSCALE:GREGORIAN
METHOD:PUBLISH
BEGIN:VEVENT
UID:6a16f095-d1a4-4a9a-8263-640d29f8b495
DTSTAMP:20260422T005006Z
DTSTART;VALUE=DATE:20260613
DTEND;VALUE=DATE:20260614
SUMMARY:Love Lennox Festival
DESCRIPTION:The Love Lennox Festival is an annual event that celebrates why they love the surf village of Lennox Head so much. \n\nThe main street is closed and packed full of unique street stalls\, entertainers\, musicians and artists. Popular local food vendors participate in the Flavours of Lennox competition where you get to vote for your favourite dish. There are kids activities\, the cutest of dog shows and entertainment all day long. \n\nGrab your friends and family\, listen to some great music and enjoy the relaxed coastal atmosphere.
LOCATION:\, Ballina Street\, Lennox Head\, NSW 2478\, NSW\, 2478
END:VEVENT
END:VCALENDAR
