BEGIN:VCALENDAR
VERSION:2.0
PRODID:-//My Community Diary//iCal Event//EN
CALSCALE:GREGORIAN
METHOD:PUBLISH
BEGIN:VEVENT
UID:874b6ea8-b671-4382-b4aa-3274b1a87179
DTSTAMP:20260421T225724Z
DTSTART;VALUE=DATE:20260723
DTEND;VALUE=DATE:20260724
SUMMARY:Live Music at the Kelp Restaurant
DESCRIPTION:Each Thursday\, soak up the coastal vibes at Kelp as some of the Northern Rivers' best local artists take the stage. Enjoy live music\, great food\, and an unbeatable atmosphere — the perfect way to ease into the weekend. Whether you're a local or just passing through\, Kelp's Thursday sessions serve up talent\, tunes\, and tasty bites in one unforgettable night.
LOCATION:\, 175 River Street\, Ballina\, NSW 2478\, NSW\, 2478
RRULE:FREQ=DAILY;INTERVAL=1;UNTIL=20260725T000000Z
END:VEVENT
END:VCALENDAR
