BEGIN:VCALENDAR
VERSION:2.0
PRODID:-//My Community Diary//iCal Event//EN
CALSCALE:GREGORIAN
METHOD:PUBLISH
BEGIN:VEVENT
UID:d348d10b-329a-43ba-ab16-da2c293288da
DTSTAMP:20260421T211509Z
DTSTART;VALUE=DATE:20260716
DTEND;VALUE=DATE:20260717
SUMMARY:Live Music at the Kelp Restaurant
DESCRIPTION:Each Thursday\, soak up the coastal vibes at Kelp as some of the Northern Rivers' best local artists take the stage. Enjoy live music\, great food\, and an unbeatable atmosphere — the perfect way to ease into the weekend. Whether you're a local or just passing through\, Kelp's Thursday sessions serve up talent\, tunes\, and tasty bites in one unforgettable night.
LOCATION:\, 175 River Street\, Ballina\, NSW 2478\, NSW\, 2478
RRULE:FREQ=DAILY;INTERVAL=1;UNTIL=20260718T000000Z
END:VEVENT
END:VCALENDAR
