BEGIN:VCALENDAR
VERSION:2.0
PRODID:-//My Community Diary//iCal Event//EN
CALSCALE:GREGORIAN
METHOD:PUBLISH
BEGIN:VEVENT
UID:7f5a5ddc-2a24-4e59-8d89-034d26c1e33f
DTSTAMP:20260422T022607Z
DTSTART;VALUE=DATE:20260618
DTEND;VALUE=DATE:20260619
SUMMARY:Live Music at the Kelp Restaurant
DESCRIPTION:Each Thursday\, soak up the coastal vibes at Kelp as some of the Northern Rivers' best local artists take the stage. Enjoy live music\, great food\, and an unbeatable atmosphere — the perfect way to ease into the weekend. Whether you're a local or just passing through\, Kelp's Thursday sessions serve up talent\, tunes\, and tasty bites in one unforgettable night.
LOCATION:\, 175 River Street\, Ballina\, NSW 2478\, NSW\, 2478
RRULE:FREQ=DAILY;INTERVAL=1;UNTIL=20260620T000000Z
END:VEVENT
END:VCALENDAR
