BEGIN:VCALENDAR
VERSION:2.0
PRODID:-//My Community Diary//iCal Event//EN
CALSCALE:GREGORIAN
METHOD:PUBLISH
BEGIN:VEVENT
UID:35decd6d-8556-4166-b0fc-d8bbe2057a11
DTSTAMP:20260422T021150Z
DTSTART;VALUE=DATE:20260801
DTEND;VALUE=DATE:20260802
SUMMARY:Jindera Lantern Festival
DESCRIPTION:Celebrate Jindera's German heritage by participating in a traditional German Lantern Festival. \n\nChildren and adults create paper lanterns\, participate in a 'der Laternenumzug' lantern procession and are entertained with burning effigies. There will be music to lead the procession\, culminating in the Village Green with a presentation of burning figures\, twirling poi and a rendition from the Australian Choir. German food and beverages will be available at the Village Green.\n\nLantern-making workshops will be available before the Lantern Festival and lanterns will be available for purchase prior to the walk.\n\nFollowing the Parade\, adults can enjoy the Museum's Wine Bar. There they can enjoy a range of food and a selection of cocktails\, mulled wine and other beverages. The atmosphere will be enhanced with the open fire and our local musician.
LOCATION:\, 116 Urana Street\, Jindera\, NSW 2642\, NSW\, 2642
RRULE:FREQ=DAILY;INTERVAL=1;UNTIL=20260803T000000Z
END:VEVENT
END:VCALENDAR
