BEGIN:VCALENDAR
VERSION:2.0
PRODID:-//My Community Diary//iCal Event//EN
CALSCALE:GREGORIAN
METHOD:PUBLISH
BEGIN:VEVENT
UID:0127ce83-bc6d-44dd-b1ee-d03310684ac3
DTSTAMP:20260422T021035Z
DTSTART;VALUE=DATE:20260516
DTEND;VALUE=DATE:20260517
SUMMARY:Eat Drink Nights at Wentworth Point
DESCRIPTION:Eat Drink Nights will once again transform Wentworth Point into a lively\, festive destination filled with mouth-watering aromas\, vibrant sights and the joyful buzz of people coming together to enjoy a night out under the stars.\n\nRunning right through the warmer months\, these popular events have established a loyal following\, drawing thousands of visitors who love to explore new culinary delights and soak up the unique atmosphere that only a night market can provide.\n\nVisitors can look forward to an enticing line-up of stalls featuring flavours from around the world. From sizzling hot dishes and authentic street food to freshly prepared desserts\, artisan baked goods and creative non-alcoholic beverages\, Eat Drink Nights offers something to satisfy every craving. Expect to discover plant-based and gluten-free options\, innovative drinks\, and unique culinary experiences designed to surprise and delight.\n\nEat Drink Nights at Wentworth Point is more than just a market—it's a celebration of community\, culture and connection. Whether you're meeting friends for dinner\, exploring with family\, or simply looking for an enjoyable night out\, it's the perfect place to savour great food and soak up the local atmosphere.
LOCATION:\, Wentworth Point\, NSW 2127\, NSW\, 2127
RRULE:FREQ=DAILY;INTERVAL=1;UNTIL=20260518T000000Z
END:VEVENT
END:VCALENDAR
