BEGIN:VCALENDAR
VERSION:2.0
PRODID:-//My Community Diary//iCal Event//EN
CALSCALE:GREGORIAN
METHOD:PUBLISH
BEGIN:VEVENT
UID:217debe3-ac7b-4f83-b5ab-d0cd771c27d9
DTSTAMP:20260421T222746Z
DTSTART:20260529T080000Z
DTEND:20260529T170000Z
SUMMARY:Optometry
DESCRIPTION:This event is provided by The Gareth & Christine Edwards Family Trust at Millmerran Primary Clinic. Please confirm precise times with the service provider. (www.garethedwardsoptometrist.com.au )\nThe Gareth & Christine Edwards Family Trust has experience in the following: Carbal Medical Services\, Southern Queensland Correctional Centre\, private practice\, relatives.
LOCATION:\, 45 Campbell Street\, Millmerran\, QLD\, 4357\, QLD\, 4357
END:VEVENT
END:VCALENDAR
