BEGIN:VCALENDAR
VERSION:2.0
PRODID:-//My Community Diary//iCal Event//EN
CALSCALE:GREGORIAN
METHOD:PUBLISH
BEGIN:VEVENT
UID:e0ca66f1-bcd0-4c4d-97ad-bd9df19fd54d
DTSTAMP:20260422T032505Z
DTSTART:20260611T080000Z
DTEND:20260611T170000Z
SUMMARY:Dietetics
DESCRIPTION:This event is provided by Ying Freda Chung at MIDIN CLINIC. Please confirm precise times with the service provider.
LOCATION:\, 31-33 Robert Street\, Atherton\, QLD\, 4883\, QLD\, 4883
END:VEVENT
END:VCALENDAR
