BEGIN:VCALENDAR
VERSION:2.0
PRODID:-//My Community Diary//iCal Event//EN
CALSCALE:GREGORIAN
METHOD:PUBLISH
BEGIN:VEVENT
UID:470c786f-5f92-44d6-95a2-b299d372bc95
DTSTAMP:20260421T222212Z
DTSTART;TZID=W. Australia Standard Time:20250726T080000
DTEND;TZID=W. Australia Standard Time:20250726T100000
SUMMARY:Hand weeding
DESCRIPTION:Join us Tuesdays and Saturdays\, July to November. Check the website or Facebook for details.\n
LOCATION:\, Jirdarup Bushland Reserve\, Etwell Street\, Kensington WA\, Australia\, WA\, 6151
RRULE:FREQ=WEEKLY;INTERVAL=1;BYDAY=TU,SA
END:VEVENT
END:VCALENDAR
