BEGIN:VCALENDAR
VERSION:2.0
PRODID:-//My Community Diary//iCal Event//EN
CALSCALE:GREGORIAN
METHOD:PUBLISH
BEGIN:VEVENT
UID:6f1af574-5a6e-45c6-830d-dff9c3cbe6b4
DTSTAMP:20260422T003025Z
DTSTART;VALUE=DATE:20260621
DTEND;VALUE=DATE:20260622
SUMMARY:Yackandandah Lions Club Market
DESCRIPTION:Discover the Yackandandah Market. Held in one of Australia's prettiest villages\, explore local crafts\, unique finds\, and the charming atmosphere of Yackandandah.\n\nThese regular markets are held on the third Sunday of each month\, except March. The March market is part of Yackandandah Folk Festival and is run by Yackandandah Primary School.\n\nCentrally located in Wellsford Street\, come and select from the region's finest produce and products ranging from olives\, hand-crafted soaps and candles\, wines\, plants\, clothing\, jewellery and more.\n\nThere is something for everyone. \n\nProudly facilitated by the Yackandandah Lions Club\, be sure to sample a sausage in bread from their volunteer run barbecue while you are there.
LOCATION:\, 13 Wellsford Street\, Yackandandah\, VIC 3749\, VIC\, 3749
RRULE:FREQ=DAILY;INTERVAL=1;UNTIL=20260623T000000Z
END:VEVENT
END:VCALENDAR
