BEGIN:VCALENDAR
VERSION:2.0
PRODID:-//My Community Diary//iCal Event//EN
CALSCALE:GREGORIAN
METHOD:PUBLISH
BEGIN:VEVENT
UID:df3c47c7-6244-47e7-bdf8-bb24d317acc7
DTSTAMP:20260422T001939Z
DTSTART;VALUE=DATE:20260426
DTEND;VALUE=DATE:20260427
SUMMARY:Sunday Sessions @ Barn1890
DESCRIPTION:Join Barn1890 every Sunday for an unforgettable evening of live music in their beautiful backyard in Sellicks Hill ! Feel the rhythm\, enjoy great company\, and make wonderful memories.\n\nIf you like live music\, great wine and hidden events\, then you're going to love Sundays @ Barn1890!\n\nUnplug with barefoot dancing\, picnic on the lawn or relax around a roaring open fire and discover the magic of some of the best musical talent from SA and afar.
LOCATION:\, 100 Culley Road\, Sellicks Hill\, SA 5174\, SA\, 5174
RRULE:FREQ=DAILY;INTERVAL=1;UNTIL=20260428T000000Z
END:VEVENT
END:VCALENDAR
