BEGIN:VCALENDAR
VERSION:2.0
PRODID:-//My Community Diary//iCal Event//EN
CALSCALE:GREGORIAN
METHOD:PUBLISH
BEGIN:VEVENT
UID:ba9d9a37-a7ad-4ed9-bcef-6dc2c252a5b6
DTSTAMP:20260421T222320Z
DTSTART;VALUE=DATE:20260521
DTEND;VALUE=DATE:20260522
SUMMARY:Move Connect Enjoy
DESCRIPTION:Everyone is welcome to join Glen Innes-based belly dancing group 'Shimmy in the Glen' for a new kind of movement activity. \n\nThis class will include movement combinations\, social dancing and opportunities to be creative. You will move in new and interesting ways. The warm-up is based on somatic principles and the cool-down includes gentle stretching. In between\, walking and movements from belly dance and other dance styles will be included\, such as folkloric and regional dances\, salsa\, ballet and Bollywood. \n\nOptions will be available for everybody\, including seated variations.\n\nA wide variety of music styles will inspire and encourage movements. From relaxing lo-fi to upbeat pop music from around the world\, the playlist will include old favourites\, world music\, and new genres to keep things interesting.\n\nTake this time to relax\, express your creativity and have fun. Leave the rest of the world outside and indulge in an hour of self-care and movement exploration.\n\nMove Connect Enjoy is open to all (ages 16+ years). \n\nEach class is unique and self-contained so these classes are suitable for both regular and casual attendees. \n\nCome along to experience a different kind of movement activity and have fun doing so.\n\nEntry Cost\nAll tickets $10 
LOCATION:\, 33 East Avenue\, Millswood\, SA 5034\, SA\, 5034
RRULE:FREQ=DAILY;INTERVAL=1;UNTIL=20260523T000000Z
END:VEVENT
END:VCALENDAR
