BEGIN:VCALENDAR
VERSION:2.0
PRODID:-//My Community Diary//iCal Event//EN
CALSCALE:GREGORIAN
METHOD:PUBLISH
BEGIN:VEVENT
UID:9981d17d-9f2c-44a6-9376-be3d84853678
DTSTAMP:20260422T021032Z
DTSTART;VALUE=DATE:20260814
DTEND;VALUE=DATE:20260815
SUMMARY:Pelican Waters Twilight Markets
DESCRIPTION:Join them at Basin Park on the second Friday of each month for the Pelican Waters Twilight Market! \n\nThey can't wait to see you when the days are longer so you can have more time to enjoy the marina views!
LOCATION:\, 2 The Basin\, Pelican Waters\, QLD 4551\, QLD\, 4551
RRULE:FREQ=DAILY;INTERVAL=1;UNTIL=20260816T000000Z
END:VEVENT
END:VCALENDAR
