BEGIN:VCALENDAR
VERSION:2.0
PRODID:-//My Community Diary//iCal Event//EN
CALSCALE:GREGORIAN
METHOD:PUBLISH
BEGIN:VEVENT
UID:e182c2cc-06a0-41f5-a3b5-fd27a75384c3
DTSTAMP:20260422T021022Z
DTSTART;VALUE=DATE:20260508
DTEND;VALUE=DATE:20260509
SUMMARY:Pelican Waters Twilight Markets
DESCRIPTION:Join them at Basin Park on the second Friday of each month for the Pelican Waters Twilight Market! \n\nThey can't wait to see you when the days are longer so you can have more time to enjoy the marina views!
LOCATION:\, 2 The Basin\, Pelican Waters\, QLD 4551\, QLD\, 4551
RRULE:FREQ=DAILY;INTERVAL=1;UNTIL=20260510T000000Z
END:VEVENT
END:VCALENDAR
