BEGIN:VCALENDAR
VERSION:2.0
PRODID:-//My Community Diary//iCal Event//EN
CALSCALE:GREGORIAN
METHOD:PUBLISH
BEGIN:VEVENT
UID:4bb99ae3-03f5-4b85-b633-0772cd0f993b
DTSTAMP:20260421T222318Z
DTSTART;VALUE=DATE:20270219
DTEND;VALUE=DATE:20270220
SUMMARY:Currimundi Twilight Market
DESCRIPTION:Whether it's Greek\, Italian\, or fresh tacos\, Currimundi Lake Twilight Market is a food lover's dream with up to 20 unique food stalls to choose from. The delicious food attracts locals who walk and ride to Watson Street\, Currimundi and join the wider community for dinner and drinks.\n\nAs an eco-friendly market\, Currimundi Lake Twilight Market doesn't use additional lighting or plastic. Stallholders provide all their products in eco-friendly packaging and already established street lighting is used so local animals\, such as the turtles who often nest nearby\, are not disturbed.\n\nAll used cans are collected and donated to the Currimundi Catchment Care Group who is dedicated to caring for the environment surrounding Currimundi Lake. Currimundi Catchment Care recycle the cans and use the funds to boost their incredible work.\n\nNote: These markets are licensed\, so bring your own alcohol is not permitted.
LOCATION:\, Westaway Parade\, Currimundi\, QLD 4551\, QLD\, 4551
RRULE:FREQ=DAILY;INTERVAL=1;UNTIL=20270221T000000Z
END:VEVENT
END:VCALENDAR
