BEGIN:VCALENDAR
VERSION:2.0
PRODID:-//My Community Diary//iCal Event//EN
CALSCALE:GREGORIAN
METHOD:PUBLISH
BEGIN:VEVENT
UID:20a0bb76-c379-4ee7-a844-c26251b3b9a5
DTSTAMP:20260421T224137Z
DTSTART;VALUE=DATE:20261127
DTEND;VALUE=DATE:20261128
SUMMARY:Caloundra Twilight Market
DESCRIPTION:This family friendly market takes place on the waterfront at Bulcock Beach. The best place to be to enjoy live music\, delicious food\, unique arts and crafts\, and much more. \n\nCome and enjoy a great night out on the last Friday of each month at the Twilight Markets in the heart of Caloundra. \n\nShops and restaurants on the Esplanade will be open for late night trading on the market nights.\n\nThey have a break during the months of June and July.
LOCATION:\, Esplanade Bulcock Beach\, Caloundra\, QLD 4551\, QLD\, 4551
RRULE:FREQ=DAILY;INTERVAL=1;UNTIL=20261129T000000Z
END:VEVENT
END:VCALENDAR
