BEGIN:VCALENDAR
VERSION:2.0
PRODID:-//My Community Diary//iCal Event//EN
CALSCALE:GREGORIAN
METHOD:PUBLISH
BEGIN:VEVENT
UID:d06c8b80-9f3e-48b6-b652-d507fde57419
DTSTAMP:20260422T021809Z
DTSTART;VALUE=DATE:20260816
DTEND;VALUE=DATE:20260817
SUMMARY:Sunday Blues Sessions at the Ballina RSL Club
DESCRIPTION:Experience the soul of the Northern Rivers with The Blues Club at Ballina RSL.\n\nThis free weekly showcase brings together blues bands and artists from across the region for an afternoon of unforgettable live music\, set against the stunning backdrop of the Richmond River.\n\nHosted in the Riverside Lounge\, enjoy smooth tunes in plush comfort with riverside views\, delicious bites from the kitchen\, and drinks at happy hour prices throughout the afternoon.\n\nWhether you're a blues enthusiast or just chasing great vibes and cool drinks\, this is the perfect way to spend your Sunday afternoon.\n\nSettle in\, soak up the sounds\, and let the blues take you somewhere good.
LOCATION:\, 1 Grant St\, Ballina\, NSW 2478\, NSW\, 2478
RRULE:FREQ=DAILY;INTERVAL=1;UNTIL=20260818T000000Z
END:VEVENT
END:VCALENDAR
