BEGIN:VCALENDAR
VERSION:2.0
PRODID:-//My Community Diary//iCal Event//EN
CALSCALE:GREGORIAN
METHOD:PUBLISH
BEGIN:VEVENT
UID:506e92cd-c294-4eae-a6ee-9ea5da3b7332
DTSTAMP:20260424T160633Z
DTSTART:20201202T080000Z
DTEND:20201202T170000Z
SUMMARY:Occupational Therapy - Cardwell
DESCRIPTION:Optimise Health and Wellness Pty Ltd at Optimise Health and Wellness Clinic - Cardwell. Please confirm precise times with the service provider.
LOCATION:\, Shop 5\, 79-81 Victoria Street\, Cardwell\, QLD\, 4849\, QLD\, 4849
END:VEVENT
END:VCALENDAR
