BEGIN:VCALENDAR
VERSION:2.0
PRODID:-//My Community Diary//iCal Event//EN
CALSCALE:GREGORIAN
METHOD:PUBLISH
BEGIN:VEVENT
UID:8d916d77-9974-4abf-bad7-6da08b7560f2
DTSTAMP:20260422T005131Z
DTSTART;VALUE=DATE:20260601
DTEND;VALUE=DATE:20260602
SUMMARY:Lake Macquarie Dobell Festival
DESCRIPTION:The Lake Macquarie Dobell Festival is an annual month-long arts festival inspired by the life and work of esteemed artist Sir William Dobell. A former resident of Wangi Wangi\, Sir William Dobell is known for his passion\, innovation\, experimentation and creative excellence.\n\nThe festival includes a range of events around Lake Macquarie including workshops\, presentations and exhibitions addressing various aspects of Dobell's life and work.
LOCATION:\, Booragul\, NSW 2284\, NSW\, 2284
END:VEVENT
END:VCALENDAR
