BEGIN:VCALENDAR
VERSION:2.0
PRODID:-//My Community Diary//iCal Event//EN
CALSCALE:GREGORIAN
METHOD:PUBLISH
BEGIN:VEVENT
UID:5f2a98ed-31f4-4dd1-a496-0adc882944ad
DTSTAMP:20260421T211520Z
DTSTART;VALUE=DATE:20260705
DTEND;VALUE=DATE:20260706
SUMMARY:Breakfast at the Beach with Marine Rescue
DESCRIPTION:Join Marine Rescue Ballina on the first Sunday of every month for their much-loved Breakfast at the Beach.\n\nSwing by their base between 7am and 11am for a relaxed morning feed featuring coastal views\, good company\, and plenty of community spirit.\n\nEnjoy sausages\, bacon and egg on bread as well as tea\, coffee or water to wash it down.\n\nIt's a simple buy-and-go setup\, and their friendly team of volunteers will be there with a smile (and maybe an extra rasher of bacon if you're lucky).\n\nCan't make it this time? No worries—this community favourite runs monthly\, so keep an eye on the Marine Rescue Ballina Facebook page for updates.\n\nEvery donation helps keep their vessels running and their crews saving lives on the water. Your support means the world.
LOCATION:\, Marine Rescue Tower\, North Wall\, Lighthouse Parade\, Ballina\, NSW 2478\, NSW\, 2478
RRULE:FREQ=DAILY;INTERVAL=1;UNTIL=20260707T000000Z
END:VEVENT
END:VCALENDAR
