BEGIN:VCALENDAR
VERSION:2.0
PRODID:-//My Community Diary//iCal Event//EN
CALSCALE:GREGORIAN
METHOD:PUBLISH
BEGIN:VEVENT
UID:2e4d4f0b-d70c-4e1c-b8ed-a0d1bdc5f265
DTSTAMP:20260422T032433Z
DTSTART;TZID=E. Australia Standard Time:20250715T153000
DTEND;TZID=E. Australia Standard Time:20250715T180000
SUMMARY:Bare Basics
DESCRIPTION:Bare Basics:&nbsp\; &nbsp\;Learn Basic Old Time and New Vogue dances done locally.\n
LOCATION:TOOWOOMBA SENIOR CITIZENS CLUB\, 39 Victoria Street\, Toowoomba City QLD 4350\, QLD\, 4350
RRULE:FREQ=WEEKLY;INTERVAL=1;BYDAY=MO
END:VEVENT
END:VCALENDAR
