BEGIN:VCALENDAR
VERSION:2.0
PRODID:-//My Community Diary//iCal Event//EN
CALSCALE:GREGORIAN
METHOD:PUBLISH
BEGIN:VEVENT
UID:9e878c44-0a21-4dec-b803-718eca7dc1a0
DTSTAMP:20260422T013730Z
DTSTART;VALUE=DATE:20260426
DTEND;VALUE=DATE:20260427
SUMMARY:Run the Tan
DESCRIPTION:Run the Tan is an exciting showcase running festival featuring various key events taking on the challenging 3.8 kilometre course.\n\nA must-do event for elite athletes\, serious runners\, families\, schools\, and spectators alike\, the course takes in Australia’s most iconic running track\, The Tan\, surrounding the Royal Botanic Gardens.\n\nThe event includes elite athletes\, celebrities\, emergency services and school races\, plus a fun run for everyone.\n\nThe event promotes a healthy and active lifestyle for all Australians\, with a primary focus on raising awareness of the positive impact of exercise on mental health and wellbeing.\n\nEntry Cost\nAll tickets $45 
LOCATION:\, Alexandra Avenue\, South Yarra\, VIC 3141\, VIC\, 3141
END:VEVENT
END:VCALENDAR
