BEGIN:VCALENDAR
VERSION:2.0
PRODID:-//My Community Diary//iCal Event//EN
CALSCALE:GREGORIAN
METHOD:PUBLISH
BEGIN:VEVENT
UID:fcca4868-668d-43d8-9205-3c322a4bb44c
DTSTAMP:20260421T224319Z
DTSTART;VALUE=DATE:20260625
DTEND;VALUE=DATE:20260626
SUMMARY:Winter Whale Fest
DESCRIPTION:Victor Harbor once again bursts to life with Winter Whale Fest – a month-long celebration honouring the wild coastal environment\, remarkable marine life\, vibrant culture\, intriguing science and boundless creativity.
LOCATION:\, Victor Harbor\, SA 5211\, SA\, 5211
RRULE:FREQ=DAILY;INTERVAL=1;UNTIL=20260627T000000Z
END:VEVENT
END:VCALENDAR
