BEGIN:VCALENDAR
VERSION:2.0
PRODID:-//My Community Diary//iCal Event//EN
CALSCALE:GREGORIAN
METHOD:PUBLISH
BEGIN:VEVENT
UID:0e23633c-7f81-4190-afb1-e2d69aed1760
DTSTAMP:20260421T222355Z
DTSTART;VALUE=DATE:20260623
DTEND;VALUE=DATE:20260624
SUMMARY:Winter Whale Fest
DESCRIPTION:Victor Harbor once again bursts to life with Winter Whale Fest – a month-long celebration honouring the wild coastal environment\, remarkable marine life\, vibrant culture\, intriguing science and boundless creativity.
LOCATION:\, Victor Harbor\, SA 5211\, SA\, 5211
RRULE:FREQ=DAILY;INTERVAL=1;UNTIL=20260625T000000Z
END:VEVENT
END:VCALENDAR
