BEGIN:VCALENDAR
VERSION:2.0
PRODID:-//My Community Diary//iCal Event//EN
CALSCALE:GREGORIAN
METHOD:PUBLISH
BEGIN:VEVENT
UID:5b7cd25a-de65-4e23-ae35-833e47d2a08f
DTSTAMP:20260423T122019Z
DTSTART;VALUE=DATE:20260609
DTEND;VALUE=DATE:20260610
SUMMARY:Winter Whale Fest
DESCRIPTION:Victor Harbor once again bursts to life with Winter Whale Fest – a month-long celebration honouring the wild coastal environment\, remarkable marine life\, vibrant culture\, intriguing science and boundless creativity.
LOCATION:\, Victor Harbor\, SA 5211\, SA\, 5211
RRULE:FREQ=DAILY;INTERVAL=1;UNTIL=20260611T000000Z
END:VEVENT
END:VCALENDAR
