BEGIN:VCALENDAR
VERSION:2.0
PRODID:-//My Community Diary//iCal Event//EN
CALSCALE:GREGORIAN
METHOD:PUBLISH
BEGIN:VEVENT
UID:7b1f63f9-9f00-44e0-a2ed-9de7d2414c6f
DTSTAMP:20260422T001756Z
DTSTART;VALUE=DATE:20260607
DTEND;VALUE=DATE:20260608
SUMMARY:Winter Whale Fest
DESCRIPTION:Victor Harbor once again bursts to life with Winter Whale Fest – a month-long celebration honouring the wild coastal environment\, remarkable marine life\, vibrant culture\, intriguing science and boundless creativity.
LOCATION:\, Victor Harbor\, SA 5211\, SA\, 5211
RRULE:FREQ=DAILY;INTERVAL=1;UNTIL=20260609T000000Z
END:VEVENT
END:VCALENDAR
