BEGIN:VCALENDAR
VERSION:2.0
PRODID:-//My Community Diary//iCal Event//EN
CALSCALE:GREGORIAN
METHOD:PUBLISH
BEGIN:VEVENT
UID:448aeebe-f7a0-40e2-a714-d6c95f7a5fdf
DTSTAMP:20260422T031933Z
DTSTART;VALUE=DATE:20260606
DTEND;VALUE=DATE:20260607
SUMMARY:Winter Whale Fest
DESCRIPTION:Victor Harbor once again bursts to life with Winter Whale Fest – a month-long celebration honouring the wild coastal environment\, remarkable marine life\, vibrant culture\, intriguing science and boundless creativity.
LOCATION:\, Victor Harbor\, SA 5211\, SA\, 5211
RRULE:FREQ=DAILY;INTERVAL=1;UNTIL=20260608T000000Z
END:VEVENT
END:VCALENDAR
