BEGIN:VCALENDAR
VERSION:2.0
PRODID:-//My Community Diary//iCal Event//EN
CALSCALE:GREGORIAN
METHOD:PUBLISH
BEGIN:VEVENT
UID:9fb91579-1cb2-4da3-b75e-39c867e3bbbd
DTSTAMP:20260422T015737Z
DTSTART;VALUE=DATE:20260523
DTEND;VALUE=DATE:20260524
SUMMARY:Casino Beef Week
DESCRIPTION:There’s more to the beef industry than the steak on your plate or the meat in your burger. Make your way to Casino\, New South Wales\, for Casino Beef Week\, an annual celebration of this iconic Australian industry and the rural way of life. \n\nThe Festival provides a program of entertainment\, education and an authentic country experience for the whole family. There will be markets\, music\, competitions\, rides\, horse racing\, a rodeo and plenty of appearances from the cattle and farmers. \n\nThe farm tours provide an opportunity to escape to the country and learn about local farming practices and the paddock to plate process.\n\nFor the industry\, the seminars\, cattle sales and beef competitions provide opportunities to network\, exchange knowledge\, and learn about the latest industry developments. While you’re here\, why not explore this stunning pocket of Australia! You will need to get in early as some of the major events sell out quickly. Visit the website and make sure you sign up to the mailing list\, so you don't miss out when tickets go on sale.\n\nEntry Cost\nAll tickets $0  - From Free Events\, to fantastic paid events\, they have something for everyone.
LOCATION:\, Casino Richmond Valley\, Casino\, NSW 2470\, NSW\, 2470
RRULE:FREQ=DAILY;INTERVAL=1;UNTIL=20260525T000000Z
END:VEVENT
END:VCALENDAR
