BEGIN:VCALENDAR
VERSION:2.0
PRODID:-//My Community Diary//iCal Event//EN
CALSCALE:GREGORIAN
METHOD:PUBLISH
BEGIN:VEVENT
UID:41b9f7f7-a8f2-42b9-a122-d5e0d37a1da9
DTSTAMP:20260422T015612Z
DTSTART;VALUE=DATE:20261030
DTEND;VALUE=DATE:20261031
SUMMARY:Newcastle Comedy Club Showcase
DESCRIPTION:The Newcastle Comedy Club hosts their Friday and Saturday night showcases in their New York-style comedy club in the heart of Newcastle. Spotlighting local talent from the Newcastle region as well as special guest performers from Sydney\, Melbourne\, and beyond. With a history of attracting major names in Australian comedy\, including Wil Anderson and Tom Gleeson\, Newcastle Comedy Club promises top-tier entertainment and an unforgettable night out. It's the go-to destination for the hottest comedy shows in town.\n\nEntry Cost\nAll tickets $39  - Prices listed are for one entry per person to the Friday Night and Saturday Night showcases.\n\nNot including package deals or booking fees if booked through external ticket providers.
LOCATION:\, 139 Maitland Road\, Islington\, NSW 2296\, NSW\, 2296
RRULE:FREQ=DAILY;INTERVAL=1;UNTIL=20261101T000000Z
END:VEVENT
END:VCALENDAR
