BEGIN:VCALENDAR
VERSION:2.0
PRODID:-//My Community Diary//iCal Event//EN
CALSCALE:GREGORIAN
METHOD:PUBLISH
BEGIN:VEVENT
UID:b0262e42-8716-44c5-933a-f5097f6a8ea1
DTSTAMP:20260422T002757Z
DTSTART;VALUE=DATE:20260512
DTEND;VALUE=DATE:20260513
SUMMARY:Gunnedah Saleyards
DESCRIPTION:If you've never been to a country cattle sale\, Gunnedah is the place to start. Home to one of NSW's largest stock selling centres\, the Gunnedah Saleyards is where boots hit the dust\, cattle move in waves\, and auctioneers unleash their famous chant – fast\, fiery\, and full of flair.\n\nFun fact: they don't actually speak that fast. According to world champion auctioneer Brandon Neely\, it's all about rhythm and filler words – a clever mix of function and theatre. It's psychology in motion\, and it's seriously exciting to watch.\n\nLocated just 1km from town on the Kamilaroi Highway\, the saleyards recently underwent a $17.55 million upgrade\, making them one of the most modern in the state. With EU accreditation\, large buyer pools\, and earthing yards that reduce stress for travelling cattle\, it's no wonder prices here consistently rank among the best in NSW.\n\nEvery Tuesday\, 12 livestock agents move thousands of prime beef cattle\, with the facility turning over more than $90 million annually and consistently yarding over 120\,000 head each year. Around 50 locals are employed here\, keeping the wheels of the beef economy turning.\n\nVisitors are welcome – just follow the energy and the echo of the auctioneer's call.
LOCATION:\, Kamilaroi Highway\, Gunnedah\, NSW 2380\, NSW\, 2380
RRULE:FREQ=DAILY;INTERVAL=1;UNTIL=20260514T000000Z
END:VEVENT
END:VCALENDAR
