BEGIN:VCALENDAR
VERSION:2.0
PRODID:-//My Community Diary//iCal Event//EN
CALSCALE:GREGORIAN
METHOD:PUBLISH
BEGIN:VEVENT
UID:ace0d2d4-a74a-4e8a-a618-fb4c67010e12
DTSTAMP:20260422T002935Z
DTSTART;VALUE=DATE:20260705
DTEND;VALUE=DATE:20260706
SUMMARY:Evans Head Fishing Classic
DESCRIPTION:The annual Evans Head Fishing Classic is held each year during the winter school holidays.\n\nEvans Head offers a unique holiday experience for you and your family. Pristine beaches\, local atmosphere\, and a range of accommodation options to suit any budget.\n\nEach year hundreds of people\, ranging from children to the experienced fisherman\, travel to Evans Head to participate in the Evans Head Fishing Classic\, where they get to experience all that the North Coast of NSW has to offer. \n\nWith draws every night\, daily winners and amazing prizes - there is much to keep you entertained for the seven days.\n\nFor more information\, please visit the website.
LOCATION:\, 11 - 13 McDonald Place\, Evans Head\, NSW 2473\, NSW\, 2473
RRULE:FREQ=DAILY;INTERVAL=1;UNTIL=20260707T000000Z
END:VEVENT
END:VCALENDAR
