BEGIN:VCALENDAR
VERSION:2.0
PRODID:-//My Community Diary//iCal Event//EN
CALSCALE:GREGORIAN
METHOD:PUBLISH
BEGIN:VEVENT
UID:034e46db-329e-4887-b654-330eb7f92cb6
DTSTAMP:20260422T005000Z
DTSTART;VALUE=DATE:20260710
DTEND;VALUE=DATE:20260711
SUMMARY:Australian Art Deco Festival – Leeton
DESCRIPTION:An annual event\, the Festival celebrates the town’s stunning Art Deco architecture and is Australia’s largest Art Deco Festival. There is something for everyone to enjoy\, with an extensive program of exhibitions\, markets\, music\, and workshops\, there’s plenty to explore.
LOCATION:\, 23-25 Chelmsford Place\, Leeton\, NSW 2705\, NSW\, 2705
RRULE:FREQ=DAILY;INTERVAL=1;UNTIL=20260712T000000Z
END:VEVENT
END:VCALENDAR
