BEGIN:VCALENDAR
VERSION:2.0
PRODID:-//My Community Diary//iCal Event//EN
CALSCALE:GREGORIAN
METHOD:PUBLISH
BEGIN:VEVENT
UID:2970ca48-cdca-4d90-9824-7f09fa1aa815
DTSTAMP:20260424T155958Z
DTSTART:20210124T080000Z
DTEND:20210124T170000Z
SUMMARY:Ophthalmology Assistant - Ingham
DESCRIPTION:Dr Todd Goodwin T/As NQ Eye Specialists at Rachel Cauchi Optometrists - Ingham. Please confirm precise times with the service provider. Please contact 1300 856 074 for more information about this visiting service.
LOCATION:\, 43 Lannercost Street\, Ingham\, QLD\, 4850\, QLD\, 4850
END:VEVENT
END:VCALENDAR
