BEGIN:VCALENDAR
VERSION:2.0
PRODID:-//My Community Diary//iCal Event//EN
CALSCALE:GREGORIAN
METHOD:PUBLISH
BEGIN:VEVENT
UID:2445f068-82ac-45dc-b006-ee5e45c4b2e8
DTSTAMP:20260422T054355Z
DTSTART;TZID=AUS Eastern Standard Time:20190905T090000
DTEND;TZID=AUS Eastern Standard Time:20190905T120000
SUMMARY:Volunteer days with Macleay Landcare
DESCRIPTION:Join these tree planting and weed control projects on the Macleay River floodplain in 2019.\n
LOCATION:Macleay Landcare Network\, Wharf Street East Kempsey NSW 2440\, NSW\, 2440
RRULE:FREQ=MONTHLY;INTERVAL=1;BYDAY=3MO
END:VEVENT
END:VCALENDAR
