BEGIN:VCALENDAR
VERSION:2.0
PRODID:-//My Community Diary//iCal Event//EN
CALSCALE:GREGORIAN
METHOD:PUBLISH
BEGIN:VEVENT
UID:b3ef2d2a-f7e6-40f4-a53b-63eaa685452e
DTSTAMP:20260422T013824Z
DTSTART;VALUE=DATE:20260528
DTEND;VALUE=DATE:20260529
SUMMARY:Strength For Life - Over 50's Fitness Classes
DESCRIPTION:Strength for Life is a personalised program designed for individuals aged 50+\, focused on improving strength\, balance\, and overall fitness. Take charge of your fitness today and feel stronger\, more confident\, and active!\n\nEntry Cost\nAdult $8.5  - 10-Pass Pack $85.00\nSingle Pass $9.50\nInitial Health Assessment $45.00
LOCATION:\, Victoria Drive Union House\, Level 4\, Adelaide\, SA 5000\, SA\, 5000
RRULE:FREQ=DAILY;INTERVAL=1;UNTIL=20260530T000000Z
END:VEVENT
END:VCALENDAR
